BEGIN:VCALENDAR
VERSION:2.0
PRODID:-//ExpressionEngine Easy iCalendar plugin//NONSGML v2.0.0//EN
X-WR-TIMEZONE:America/New_York
X-WR-CALNAME:Upcoming Auctions
BEGIN:VEVENT
UID:99247
DTSTAMP:20230412T141500
DTSTART:20230412T141500
DTEND:20230523T120000
SUMMARY:2470 US Highway 20\, Swanton\, Ohio 43558
LOCATION:2470 US Highway 20\, Swanton\, OH 43558\, US
DESCRIPTION:REAL ESTATE - House\, Pond\, (3) Outbuildings - Run Your Own B
 usiness - Online Auction
URL:https://pamelaroseauction.bwwsstaging.com/auctions/detail/bw
 99247
SEQUENCE:1
END:VEVENT
END:VCALENDAR