BEGIN:VCALENDAR
VERSION:2.0
PRODID:-//ExpressionEngine Easy iCalendar plugin//NONSGML v2.0.0//EN
X-WR-TIMEZONE:America/New_York
X-WR-CALNAME:Upcoming Auctions
BEGIN:VEVENT
UID:98877
DTSTAMP:20230405T164500
DTSTART:20230405T164500
DTEND:20230501T100000
SUMMARY:Toledo Police Seized Vehicles (May)
LOCATION:198 Dura Avenue\, Toledo\, OH 43612\, US
DESCRIPTION:Toledo Police Seized Vehicles - Online Auction
URL:https://pamelaroseauction.bwwsstaging.com/auctions/detail/bw
 98877
SEQUENCE:1
END:VEVENT
END:VCALENDAR