BEGIN:VCALENDAR
VERSION:2.0
PRODID:-//ExpressionEngine Easy iCalendar plugin//NONSGML v2.0.0//EN
X-WR-TIMEZONE:America/New_York
X-WR-CALNAME:Upcoming Auctions
BEGIN:VEVENT
UID:98055
DTSTAMP:20230321T153000
DTSTART:20230321T153000
DTEND:20230425T120000
SUMMARY:8420 Angola Road\, Holland\, Ohio 43528
LOCATION:8420 Angola Road\, Holland\, OH 43528\, US
DESCRIPTION:Prime Location of 1.34+/- Residential Acres in Holland - Onl
 ine Auction
URL:https://pamelaroseauction.bwwsstaging.com/auctions/detail/bw
 98055
SEQUENCE:1
END:VEVENT
END:VCALENDAR