BEGIN:VCALENDAR
VERSION:2.0
PRODID:-//ExpressionEngine Easy iCalendar plugin//NONSGML v2.0.0//EN
X-WR-TIMEZONE:America/New_York
X-WR-CALNAME:Upcoming Auctions
BEGIN:VEVENT
UID:95299
DTSTAMP:20230125T093000
DTSTART:20230125T093000
DTEND:20230227T120000
SUMMARY:2825 West Course Road\, Maumee\, Ohio 43537
LOCATION:2825 West Course Road\, Maumee\, OH 43537\, US
DESCRIPTION:Investor Flip - Brick Ranch on Golf Course in Brandywine Sub
 division
URL:https://pamelaroseauction.bwwsstaging.com/auctions/detail/bw
 95299
SEQUENCE:1
END:VEVENT
END:VCALENDAR