BEGIN:VCALENDAR
VERSION:2.0
PRODID:-//ExpressionEngine Easy iCalendar plugin//NONSGML v2.0.0//EN
X-WR-TIMEZONE:America/New_York
X-WR-CALNAME:Upcoming Auctions
BEGIN:VEVENT
UID:92608
DTSTAMP:20221121T163000
DTSTART:20221121T163000
DTEND:20221212T120000
SUMMARY:5940 Chaney Drive\, Toledo\, Ohio 43615
LOCATION:5940 Chaney Drive\, Toledo\, OH 43615\, US
DESCRIPTION:Ideal Fix and Flip or Rental in Sylvania Twp. - Online Aucti
 on
URL:https://pamelaroseauction.bwwsstaging.com/auctions/detail/bw
 92608
SEQUENCE:1
END:VEVENT
END:VCALENDAR