BEGIN:VCALENDAR
VERSION:2.0
PRODID:-//ExpressionEngine Easy iCalendar plugin//NONSGML v2.0.0//EN
X-WR-TIMEZONE:America/New_York
X-WR-CALNAME:Upcoming Auctions
BEGIN:VEVENT
UID:89528
DTSTAMP:20220927T090000
DTSTART:20220927T090000
DTEND:20221014T100000
SUMMARY:2011 BMW Z4 Roadster Convertible (Weckerly)
LOCATION:5825 Weckerly Road\, Whitehouse\, OH 43571\, US
DESCRIPTION:2011 BMW Z4 Roadster Convertible - Online Vehicle Auction
URL:https://pamelaroseauction.bwwsstaging.com/auctions/detail/bw
 89528
SEQUENCE:1
END:VEVENT
END:VCALENDAR