BEGIN:VCALENDAR
VERSION:2.0
PRODID:-//ExpressionEngine Easy iCalendar plugin//NONSGML v2.0.0//EN
X-WR-TIMEZONE:America/New_York
X-WR-CALNAME:Upcoming Auctions
BEGIN:VEVENT
UID:89228
DTSTAMP:20220921T104500
DTSTART:20220921T104500
DTEND:20221114T120000
SUMMARY:5230 Fredelia Drive\, Toledo\, Ohio 43623
LOCATION:5230 Fredelia Drive\, Toledo\, OH 43623\, US
DESCRIPTION:Fixer Upper In Prestigious Neighborhood at Minimum Bid $150\,
 000 - Online Auction
URL:https://pamelaroseauction.bwwsstaging.com/auctions/detail/bw
 89228
SEQUENCE:1
END:VEVENT
END:VCALENDAR