BEGIN:VCALENDAR
VERSION:2.0
PRODID:-//ExpressionEngine Easy iCalendar plugin//NONSGML v2.0.1//EN
X-WR-TIMEZONE:America/New_York
X-WR-CALNAME:Upcoming Auctions
BEGIN:VEVENT
UID:88391
DTSTAMP:20220906T141500
DTSTART:20220906T141500
DTEND:20220929T120000
SUMMARY:1438 Remington Street\, Toledo\, Ohio 43605
LOCATION:1438 Remington Street\, Toledo\, OH 43608\, US
DESCRIPTION:Great First Time Home or Investment - Online Auction
URL:https://pamelaroseauction.bwwsstaging.com/auctions/detail/bw
 88391
SEQUENCE:1
END:VEVENT
END:VCALENDAR