BEGIN:VCALENDAR
VERSION:2.0
PRODID:-//ExpressionEngine Easy iCalendar plugin//NONSGML v2.0.0//EN
X-WR-TIMEZONE:America/New_York
X-WR-CALNAME:Upcoming Auctions
BEGIN:VEVENT
UID:87858
DTSTAMP:20220826T160000
DTSTART:20220826T160000
DTEND:20220920T120000
SUMMARY:2241 Townley Road\, Toledo\, Ohio 43614
LOCATION:2241 Townley Road\, Toledo\, OH 43614\, US
DESCRIPTION:Hard To Find Fixer Upper Backs Up To Golf Course at Minimum 
 Bid $60\,000 - Online Estate Auction
URL:https://pamelaroseauction.bwwsstaging.com/auctions/detail/bw
 87858
SEQUENCE:1
END:VEVENT
END:VCALENDAR