BEGIN:VCALENDAR
VERSION:2.0
PRODID:-//ExpressionEngine Easy iCalendar plugin//NONSGML v2.0.0//EN
X-WR-TIMEZONE:America/New_York
X-WR-CALNAME:Upcoming Auctions
BEGIN:VEVENT
UID:87396
DTSTAMP:20220818T103000
DTSTART:20220818T103000
DTEND:20220922T120000
SUMMARY:2159 West Laskey Road\, Toledo\, Ohio 43613
LOCATION:2159 West Laskey Road\, Toledo\, OH 43613\, US
DESCRIPTION:Commercial Building with 10 Ton Lift and Overhead Door at Mi
 nimum Bid $59\,900 - Online Auction
URL:https://pamelaroseauction.bwwsstaging.com/auctions/detail/bw
 87396
SEQUENCE:1
END:VEVENT
END:VCALENDAR