BEGIN:VCALENDAR
VERSION:2.0
PRODID:-//ExpressionEngine Easy iCalendar plugin//NONSGML v2.0.0//EN
X-WR-TIMEZONE:America/New_York
X-WR-CALNAME:Upcoming Auctions
BEGIN:VEVENT
UID:85894
DTSTAMP:20220805T113000
DTSTART:20220805T113000
DTEND:20220908T120000
SUMMARY:5206 Bays Road\, Wayne\, Ohio 43466
LOCATION:5206 Bays Road\, Wayne\, OH 43466\, US
DESCRIPTION:Ranch Home On 1+/- Acre - Country Living - Online Auction
URL:https://pamelaroseauction.bwwsstaging.com/auctions/detail/bw
 85894
SEQUENCE:1
END:VEVENT
END:VCALENDAR