BEGIN:VCALENDAR
VERSION:2.0
PRODID:-//ExpressionEngine Easy iCalendar plugin//NONSGML v2.0.0//EN
X-WR-TIMEZONE:America/New_York
X-WR-CALNAME:Upcoming Auctions
BEGIN:VEVENT
UID:85851
DTSTAMP:20220804T163000
DTSTART:20220804T163000
DTEND:20220822T100000
SUMMARY:(2) Volvo Dump Trucks (Tedrow)
LOCATION:2181 Tedrow Road\, Toledo\, OH 43614\, US
DESCRIPTION:(2) Volvo Dump Trucks - Online Auction
URL:https://pamelaroseauction.bwwsstaging.com/auctions/detail/bw
 85851
SEQUENCE:1
END:VEVENT
END:VCALENDAR