BEGIN:VCALENDAR
VERSION:2.0
PRODID:-//ExpressionEngine Easy iCalendar plugin//NONSGML v2.0.0//EN
X-WR-TIMEZONE:America/New_York
X-WR-CALNAME:Upcoming Auctions
BEGIN:VEVENT
UID:85555
DTSTAMP:20220920T103000
DTSTART:20220920T103000
DTEND:20221020T120000
SUMMARY:1492 North Monroe Street\, Monroe\, Michigan 48162
LOCATION:1492 North Monroe Street\, Monroe\, MI 48162\, US
DESCRIPTION:Commercial Building with Living Quarters - Online Auction
URL:https://pamelaroseauction.bwwsstaging.com/auctions/detail/bw
 85555
SEQUENCE:1
END:VEVENT
END:VCALENDAR