BEGIN:VCALENDAR
VERSION:2.0
PRODID:-//ExpressionEngine Easy iCalendar plugin//NONSGML v2.0.0//EN
X-WR-TIMEZONE:America/New_York
X-WR-CALNAME:Upcoming Auctions
BEGIN:VEVENT
UID:85383
DTSTAMP:20220729T094500
DTSTART:20220729T094500
DTEND:20220831T120000
SUMMARY:2616 - 2628 North Erie Street\, Toledo\, Ohio 43611
LOCATION:2616 North Erie Street\, Toledo\, OH 43611\, US
DESCRIPTION:Church with Character and Charm at Minimum Bid $49\,900 - Onl
 ine Auction
URL:https://pamelaroseauction.bwwsstaging.com/auctions/detail/bw
 85383
SEQUENCE:1
END:VEVENT
END:VCALENDAR