BEGIN:VCALENDAR
VERSION:2.0
PRODID:-//ExpressionEngine Easy iCalendar plugin//NONSGML v2.0.0//EN
X-WR-TIMEZONE:America/New_York
X-WR-CALNAME:Upcoming Auctions
BEGIN:VEVENT
UID:83770
DTSTAMP:20220629T131500
DTSTART:20220629T131500
DTEND:20220714T100000
SUMMARY:Tavern and Restaurant Liquidation (West Alexis)
LOCATION:847 West Alexis Road\, Toledo\, OH 43612\, US
DESCRIPTION:Tavern and Restaurant Liquidation - Online Auction
URL:https://pamelaroseauction.bwwsstaging.com/auctions/detail/bw
 83770
SEQUENCE:1
END:VEVENT
END:VCALENDAR