BEGIN:VCALENDAR
VERSION:2.0
PRODID:-//ExpressionEngine Easy iCalendar plugin//NONSGML v2.0.0//EN
X-WR-TIMEZONE:America/New_York
X-WR-CALNAME:Upcoming Auctions
BEGIN:VEVENT
UID:80412
DTSTAMP:20220502T144500
DTSTART:20220502T144500
DTEND:20220517T120000
SUMMARY:3615 Brunswick Drive\, Toledo\, Ohio 43606
LOCATION:3615 Brunswick Drive\, Toledo\, OH 43606\, US
DESCRIPTION:Brick Ranch On Cul-De-Sac in Washington Local - Online Aucti
 on
URL:https://pamelaroseauction.bwwsstaging.com/auctions/detail/bw
 80412
SEQUENCE:1
END:VEVENT
END:VCALENDAR