BEGIN:VCALENDAR
VERSION:2.0
PRODID:-//ExpressionEngine Easy iCalendar plugin//NONSGML v2.0.0//EN
X-WR-TIMEZONE:America/New_York
X-WR-CALNAME:Upcoming Auctions
BEGIN:VEVENT
UID:80235
DTSTAMP:20220428T104500
DTSTART:20220428T104500
DTEND:20220517T120000
SUMMARY:2223 Woodville Road\, Oregon\, Ohio 43616
LOCATION:2223 Woodville Road\, Oregon\, OH 43616\, US
DESCRIPTION:Commercial Building On A Corner Lot with Sign - Online Aucti
 on
URL:https://pamelaroseauction.bwwsstaging.com/auctions/detail/bw
 80235
SEQUENCE:1
END:VEVENT
END:VCALENDAR