BEGIN:VCALENDAR
VERSION:2.0
PRODID:-//ExpressionEngine Easy iCalendar plugin//NONSGML v2.0.0//EN
X-WR-TIMEZONE:America/New_York
X-WR-CALNAME:Upcoming Auctions
BEGIN:VEVENT
UID:76572
DTSTAMP:20220221T154500
DTSTART:20220221T154500
DTEND:20220317T120000
SUMMARY:619 Russell Street\, Toledo\, Ohio 43608
LOCATION:619 Russell Street\, Toledo\, OH 43608\, US
DESCRIPTION:Investment Property at Minimum Bid $25\,000 - Online Auction
URL:https://pamelaroseauction.bwwsstaging.com/auctions/detail/bw
 76572
SEQUENCE:1
END:VEVENT
END:VCALENDAR