BEGIN:VCALENDAR
VERSION:2.0
PRODID:-//ExpressionEngine Easy iCalendar plugin//NONSGML v2.0.0//EN
X-WR-TIMEZONE:America/New_York
X-WR-CALNAME:Upcoming Auctions
BEGIN:VEVENT
UID:76315
DTSTAMP:20220215T130000
DTSTART:20220215T130000
DTEND:20220310T120000
SUMMARY:408 West Main Street\, Delta\, Ohio 43515
LOCATION:408 West Main Street\, Delta\, OH 43515\, US
DESCRIPTION:Investors! Flip or Rent House with Pole Barn on 1+/- Acres -
  Online Auction
URL:https://pamelaroseauction.bwwsstaging.com/auctions/detail/bw
 76315
SEQUENCE:1
END:VEVENT
END:VCALENDAR