BEGIN:VCALENDAR
VERSION:2.0
PRODID:-//ExpressionEngine Easy iCalendar plugin//NONSGML v2.0.0//EN
X-WR-TIMEZONE:America/New_York
X-WR-CALNAME:Upcoming Auctions
BEGIN:VEVENT
UID:75458
DTSTAMP:20220127T144500
DTSTART:20220127T144500
DTEND:20220310T120000
SUMMARY:5133 Telegraph Road\, Toledo\, Ohio 43612
LOCATION:5133 Telegraph Road\, Toledo\, OH 43612\, US
DESCRIPTION:Operating Business - Bowling Alley Includes the Real Estate\,
  Equipment\, Bus\, and Liquor License - Online Auction
URL:https://pamelaroseauction.bwwsstaging.com/auctions/detail/bw
 75458
SEQUENCE:1
END:VEVENT
END:VCALENDAR