BEGIN:VCALENDAR
VERSION:2.0
PRODID:-//ExpressionEngine Easy iCalendar plugin//NONSGML v2.0.0//EN
X-WR-TIMEZONE:America/New_York
X-WR-CALNAME:Upcoming Auctions
BEGIN:VEVENT
UID:72302
DTSTAMP:20211109T163000
DTSTART:20211109T163000
DTEND:20211215T120000
SUMMARY:2029 South Byrne Road\, Toledo\, Ohio 43614
LOCATION:2029 South Byrne Road\, Toledo\, OH 43614\, US
DESCRIPTION:Landmark Location of Jockos Ice Cream Store - Online Auction
URL:https://pamelaroseauction.bwwsstaging.com/auctions/detail/bw
 72302
SEQUENCE:1
END:VEVENT
END:VCALENDAR