BEGIN:VCALENDAR
VERSION:2.0
PRODID:-//ExpressionEngine Easy iCalendar plugin//NONSGML v2.0.0//EN
X-WR-TIMEZONE:America/New_York
X-WR-CALNAME:Upcoming Auctions
BEGIN:VEVENT
UID:72115
DTSTAMP:20211105T143000
DTSTART:20211105T143000
DTEND:20211202T120000
SUMMARY:702 Nicholas Street\, Toledo\, Ohio 43609
LOCATION:702 Nicholas Street\, Toledo\, OH 43609\, US
DESCRIPTION:Investment Property with 10 Year Tenant
URL:https://pamelaroseauction.bwwsstaging.com/auctions/detail/bw
 72115
SEQUENCE:1
END:VEVENT
END:VCALENDAR