BEGIN:VCALENDAR
VERSION:2.0
PRODID:-//ExpressionEngine Easy iCalendar plugin//NONSGML v2.0.1//EN
X-WR-TIMEZONE:America/New_York
X-WR-CALNAME:Upcoming Auctions
BEGIN:VEVENT
UID:71269
DTSTAMP:20211019T150000
DTSTART:20211019T150000
DTEND:20211108T100000
SUMMARY:Honda Accord\, Jewelry\, Fenton\, Household\, Glass\, Crystal - O
 nline Auction
LOCATION:5555 Brown Road\, Oregon\, OH 43616\, US
DESCRIPTION:Honda\, Jewelry\, Fenton\, Household\, Glassware\, Waterford\, Hom
 e Decor\, Stain Glass Lamps - Online Auction
URL:https://pamelaroseauction.bwwsstaging.com/auctions/detail/bw
 71269
SEQUENCE:1
END:VEVENT
END:VCALENDAR