BEGIN:VCALENDAR
VERSION:2.0
PRODID:-//ExpressionEngine Easy iCalendar plugin//NONSGML v2.0.0//EN
X-WR-TIMEZONE:America/New_York
X-WR-CALNAME:Upcoming Auctions
BEGIN:VEVENT
UID:70634
DTSTAMP:20211007T100000
DTSTART:20211007T100000
DTEND:20211025T100000
SUMMARY:Automotive Equipment\, Snap-On Tools\, Parts\, Boat
LOCATION:4409 Bennett Road\, Toledo\, OH 43612\, US
DESCRIPTION:Automotive Equipment\, Snap-On Tools\, Parts\, Boat - Online Au
 ction
URL:https://pamelaroseauction.bwwsstaging.com/auctions/detail/bw
 70634
SEQUENCE:1
END:VEVENT
END:VCALENDAR