BEGIN:VCALENDAR
VERSION:2.0
PRODID:-//ExpressionEngine Easy iCalendar plugin//NONSGML v2.0.0//EN
X-WR-TIMEZONE:America/New_York
X-WR-CALNAME:Upcoming Auctions
BEGIN:VEVENT
UID:70162
DTSTAMP:20210929T110000
DTSTART:20210929T110000
DTEND:20211019T120000
SUMMARY:3741 Carleton Rockwood and 12590 Spicer - Michigan
LOCATION:{location}
DESCRIPTION:Starter Home or Investment - 2 Homes Selling Separately - On
 line Auction
URL:https://pamelaroseauction.bwwsstaging.com/auctions/detail/bw
 70162
SEQUENCE:1
END:VEVENT
END:VCALENDAR