BEGIN:VCALENDAR
VERSION:2.0
PRODID:-//ExpressionEngine Easy iCalendar plugin//NONSGML v2.0.0//EN
X-WR-TIMEZONE:America/New_York
X-WR-CALNAME:Upcoming Auctions
BEGIN:VEVENT
UID:70155
DTSTAMP:20210929T091500
DTSTART:20210929T091500
DTEND:20211020T100000
SUMMARY:4409 Bennett Road\, Toledo\, Ohio 43612
LOCATION:4409 Bennett Road\, Toledo\, OH 43612\, US
DESCRIPTION:7989+/- SF Commercial Building Includes Apartment - Online A
 uction
URL:https://pamelaroseauction.bwwsstaging.com/auctions/detail/bw
 70155
SEQUENCE:1
END:VEVENT
END:VCALENDAR