BEGIN:VCALENDAR
VERSION:2.0
PRODID:-//ExpressionEngine Easy iCalendar plugin//NONSGML v2.0.0//EN
X-WR-TIMEZONE:America/New_York
X-WR-CALNAME:Upcoming Auctions
BEGIN:VEVENT
UID:69371
DTSTAMP:20210913T143000
DTSTART:20210913T143000
DTEND:20211007T120000
SUMMARY:4956 Hipp Street\, Dearborn Heights\, Michigan 48125
LOCATION:4956 Hipp Street\, Dearborn Heights\, MI 48125\, US
DESCRIPTION:Great First Home or Investment Property - Online Auction
URL:https://pamelaroseauction.bwwsstaging.com/auctions/detail/bw
 69371
SEQUENCE:1
END:VEVENT
END:VCALENDAR