BEGIN:VCALENDAR
VERSION:2.0
PRODID:-//ExpressionEngine Easy iCalendar plugin//NONSGML v2.0.0//EN
X-WR-TIMEZONE:America/New_York
X-WR-CALNAME:Upcoming Auctions
BEGIN:VEVENT
UID:69135
DTSTAMP:20210908T100000
DTSTART:20210908T100000
DTEND:20210922T110000
SUMMARY:1966 Mustang Convertible
LOCATION:6507 White Oak Lane\, Whitehouse\, OH 43571\, US
DESCRIPTION:1966 Ford Mustang Convertible - Online Auction
URL:https://pamelaroseauction.bwwsstaging.com/auctions/detail/bw
 69135
SEQUENCE:1
END:VEVENT
END:VCALENDAR