BEGIN:VCALENDAR
VERSION:2.0
PRODID:-//ExpressionEngine Easy iCalendar plugin//NONSGML v2.0.1//EN
X-WR-TIMEZONE:America/New_York
X-WR-CALNAME:Upcoming Auctions
BEGIN:VEVENT
UID:68777
DTSTAMP:20210830T160000
DTSTART:20210830T160000
DTEND:20210920T120000
SUMMARY:914 Carol Circle\, Rossford\, Ohio 43460
LOCATION:914 Carol Circle\, Rossford\, OH 43460\, US
DESCRIPTION:Hard to Find Fixer Upper - 3 Beds\, Basement\, 2 Car Garage - 
 Online Auction
URL:https://pamelaroseauction.bwwsstaging.com/auctions/detail/bw
 68777
SEQUENCE:1
END:VEVENT
END:VCALENDAR