BEGIN:VCALENDAR
VERSION:2.0
PRODID:-//ExpressionEngine Easy iCalendar plugin//NONSGML v2.0.1//EN
X-WR-TIMEZONE:America/New_York
X-WR-CALNAME:Upcoming Auctions
BEGIN:VEVENT
UID:68173
DTSTAMP:20210817T164500
DTSTART:20210817T164500
DTEND:20210916T120000
SUMMARY:6 Riverhills Lane\, Toledo\, Ohio 43623
LOCATION:6 Riverhills Lane\, Toledo\, OH 43623\, US
DESCRIPTION:Luxury Lot in Sylvania Township - Online Auction
URL:https://pamelaroseauction.bwwsstaging.com/auctions/detail/bw
 68173
SEQUENCE:1
END:VEVENT
END:VCALENDAR