BEGIN:VCALENDAR
VERSION:2.0
PRODID:-//ExpressionEngine Easy iCalendar plugin//NONSGML v2.0.0//EN
X-WR-TIMEZONE:America/New_York
X-WR-CALNAME:Upcoming Auctions
BEGIN:VEVENT
UID:67328
DTSTAMP:20210730T113000
DTSTART:20210730T113000
DTEND:20210824T120000
SUMMARY:2140 Kingston Drive\, Maumee\, Ohio 43537
LOCATION:2140 Kingston Drive\, Maumee\, OH 43537\, US
DESCRIPTION:Fix and Flip - 4 Bed\, 2.5 Baths - Springfield Schools - Esta
 te Auction
URL:https://pamelaroseauction.bwwsstaging.com/auctions/detail/bw
 67328
SEQUENCE:1
END:VEVENT
END:VCALENDAR