BEGIN:VCALENDAR
VERSION:2.0
PRODID:-//ExpressionEngine Easy iCalendar plugin//NONSGML v2.0.0//EN
X-WR-TIMEZONE:America/New_York
X-WR-CALNAME:Upcoming Auctions
BEGIN:VEVENT
UID:67197
DTSTAMP:20210728T110000
DTSTART:20210728T110000
DTEND:20210831T120000
SUMMARY:24859 North Dixie Highway\, Perrysburg\, Ohio 43551
LOCATION:24859 North Dixie Highway\, Perrysburg\, OH 43551\, US
DESCRIPTION:Prime Development Land at Minimum Bid $175\,000
URL:https://pamelaroseauction.bwwsstaging.com/auctions/detail/bw
 67197
SEQUENCE:1
END:VEVENT
END:VCALENDAR