BEGIN:VCALENDAR
VERSION:2.0
PRODID:-//ExpressionEngine Easy iCalendar plugin//NONSGML v2.0.0//EN
X-WR-TIMEZONE:America/New_York
X-WR-CALNAME:Upcoming Auctions
BEGIN:VEVENT
UID:67045
DTSTAMP:20210723T150000
DTSTART:20210723T150000
DTEND:20210902T120000
SUMMARY:161 Queensland Boulevard\, Perrysburg\, Ohio 43551
LOCATION:161 Queensland Boulevard\, Perrysburg\, OH 43551\, US
DESCRIPTION:Meticulously Maintained Home in Perrysburg - Online Auction
URL:https://pamelaroseauction.bwwsstaging.com/auctions/detail/bw
 67045
SEQUENCE:1
END:VEVENT
END:VCALENDAR