BEGIN:VCALENDAR
VERSION:2.0
PRODID:-//ExpressionEngine Easy iCalendar plugin//NONSGML v2.0.0//EN
X-WR-TIMEZONE:America/New_York
X-WR-CALNAME:Upcoming Auctions
BEGIN:VEVENT
UID:65432
DTSTAMP:20210616T170000
DTSTART:20210616T170000
DTEND:20210715T120000
SUMMARY:1303 South Cove Boulevard\, Toledo\, Ohio 43606
LOCATION:1303 South Cove Boulevard\, Toledo\, OH 43606\, US
DESCRIPTION:28 Unit Apartment Building - Online Auction
URL:https://pamelaroseauction.bwwsstaging.com/auctions/detail/bw
 65432
SEQUENCE:1
END:VEVENT
END:VCALENDAR