BEGIN:VCALENDAR
VERSION:2.0
PRODID:-//ExpressionEngine Easy iCalendar plugin//NONSGML v2.0.0//EN
X-WR-TIMEZONE:America/New_York
X-WR-CALNAME:Upcoming Auctions
BEGIN:VEVENT
UID:64622
DTSTAMP:20210527T150000
DTSTART:20210527T150000
DTEND:20210708T120000
SUMMARY:10150 Goff Road\, Temperance\, Michigan 48182
LOCATION:10150 Goff Road\, Temperance\, MI 48182\, US
DESCRIPTION:Brick Ranch in Bedford Township – Online Auction
URL:https://pamelaroseauction.bwwsstaging.com/auctions/detail/bw
 64622
SEQUENCE:1
END:VEVENT
END:VCALENDAR