BEGIN:VCALENDAR
VERSION:2.0
PRODID:-//ExpressionEngine Easy iCalendar plugin//NONSGML v2.0.0//EN
X-WR-TIMEZONE:America/New_York
X-WR-CALNAME:Upcoming Auctions
BEGIN:VEVENT
UID:64196
DTSTAMP:20210621T160000
DTSTART:20210621T160000
DTEND:20210621T170000
SUMMARY:4457 County Road 1\, Swanton\, Ohio 43558
LOCATION:4457 County Road 1\, Swanton\, OH 43558\, US
DESCRIPTION:8.64+/- Acres! Brick Ranch\, 4000+/- SF Pole Barn\, 3600+/- SF
  Concrete Building
URL:https://pamelaroseauction.bwwsstaging.com/auctions/detail/bw
 64196
SEQUENCE:1
END:VEVENT
END:VCALENDAR