BEGIN:VCALENDAR
VERSION:2.0
PRODID:-//ExpressionEngine Easy iCalendar plugin//NONSGML v2.0.0//EN
X-WR-TIMEZONE:America/New_York
X-WR-CALNAME:Upcoming Auctions
BEGIN:VEVENT
UID:62035
DTSTAMP:20210330T170000
DTSTART:20210330T170000
DTEND:20210428T120000
SUMMARY:6055 Hill Avenue\, Toledo\, Ohio 43615
LOCATION:6055 Hill Avenue\, Toledo\, OH 43615\, US
DESCRIPTION:Brick Ranch on 1.9+/- Acres at Minimum Bid $120\,000
URL:https://pamelaroseauction.bwwsstaging.com/auctions/detail/bw
 62035
SEQUENCE:1
END:VEVENT
END:VCALENDAR