BEGIN:VCALENDAR
VERSION:2.0
PRODID:-//ExpressionEngine Easy iCalendar plugin//NONSGML v2.0.0//EN
X-WR-TIMEZONE:America/New_York
X-WR-CALNAME:Upcoming Auctions
BEGIN:VEVENT
UID:61533
DTSTAMP:20210318T113000
DTSTART:20210318T113000
DTEND:20210415T120000
SUMMARY:0 Secor Road\, Lambertville\, Michigan 48144
LOCATION:0 Secor Road\, Lambertville\, MI 48144\, US
DESCRIPTION:Online Land Auction! Minimum Bid $50\,000!
URL:https://pamelaroseauction.bwwsstaging.com/auctions/detail/bw
 61533
SEQUENCE:1
END:VEVENT
END:VCALENDAR