BEGIN:VCALENDAR
VERSION:2.0
PRODID:-//ExpressionEngine Easy iCalendar plugin//NONSGML v2.0.0//EN
X-WR-TIMEZONE:America/New_York
X-WR-CALNAME:Upcoming Auctions
BEGIN:VEVENT
UID:59380
DTSTAMP:20210208T090000
DTSTART:20210208T090000
DTEND:20210302T120000
SUMMARY:226 Dickens Drive\, Toledo\, Ohio 43607
LOCATION:226 Dickens Drive\, Toledo\, OH 43607\, US
DESCRIPTION:Online Estate Auction! Ideal Fix and Flip!
URL:https://pamelaroseauction.bwwsstaging.com/auctions/detail/bw
 59380
SEQUENCE:1
END:VEVENT
END:VCALENDAR