BEGIN:VCALENDAR
VERSION:2.0
PRODID:-//ExpressionEngine Easy iCalendar plugin//NONSGML v2.0.0//EN
X-WR-TIMEZONE:America/New_York
X-WR-CALNAME:Upcoming Auctions
BEGIN:VEVENT
UID:117915
DTSTAMP:20240328T160000
DTSTART:20240328T160000
DTEND:20240418T120000
SUMMARY:203 Oak Street\, Rossford\, Ohio 43460
LOCATION:203 Oak Street\, Rossford\, OH 43460\, US
DESCRIPTION:Fully Rented Duplex in Rossford - Online Auction  
URL:https://pamelaroseauction.bwwsstaging.com/auctions/detail/bw
 117915
SEQUENCE:1
END:VEVENT
END:VCALENDAR