BEGIN:VCALENDAR
VERSION:2.0
PRODID:-//ExpressionEngine Easy iCalendar plugin//NONSGML v2.0.0//EN
X-WR-TIMEZONE:America/New_York
X-WR-CALNAME:Upcoming Auctions
BEGIN:VEVENT
UID:116017
DTSTAMP:20240223T160000
DTSTART:20240223T160000
DTEND:20240321T120000
SUMMARY:341 and 343 Boston Place\, Toledo\, Ohio 43610
LOCATION:341 Boston Place\, Toledo\, OH 43610\, US
DESCRIPTION:Side by Side Duplexes Selling Individually - Online Auction
URL:https://pamelaroseauction.bwwsstaging.com/auctions/detail/bw
 116017
SEQUENCE:1
END:VEVENT
END:VCALENDAR