BEGIN:VCALENDAR
VERSION:2.0
PRODID:-//ExpressionEngine Easy iCalendar plugin//NONSGML v2.0.0//EN
X-WR-TIMEZONE:America/New_York
X-WR-CALNAME:Upcoming Auctions
BEGIN:VEVENT
UID:111057
DTSTAMP:20231110T113000
DTSTART:20231110T113000
DTEND:20231207T120000
SUMMARY:0 County Road Q\, McClure\, Ohio 43534
LOCATION:0 County Road Q\, McClure\, OH 43534\, US
DESCRIPTION:38+/- Acres of Farm Land - Online Auction
URL:https://pamelaroseauction.bwwsstaging.com/auctions/detail/bw
 111057
SEQUENCE:1
END:VEVENT
END:VCALENDAR