BEGIN:VCALENDAR
VERSION:2.0
PRODID:-//ExpressionEngine Easy iCalendar plugin//NONSGML v2.0.0//EN
X-WR-TIMEZONE:America/New_York
X-WR-CALNAME:Upcoming Auctions
BEGIN:VEVENT
UID:106338
DTSTAMP:20230818T120000
DTSTART:20230818T120000
DTEND:20230919T120000
SUMMARY:5214 Schenk Road\, Sandusky\, Ohio 44870
LOCATION:5214 Schenk Road\, Sandusky\, OH 44870\, US
DESCRIPTION:House/Garage and Outbuilding/Lot - Buy One or Buy All - Onli
 ne Trust Auction
URL:https://pamelaroseauction.bwwsstaging.com/auctions/detail/bw
 106338
SEQUENCE:1
END:VEVENT
END:VCALENDAR