BEGIN:VCALENDAR
VERSION:2.0
PRODID:-//ExpressionEngine Easy iCalendar plugin//NONSGML v2.0.0//EN
X-WR-TIMEZONE:America/New_York
X-WR-CALNAME:Upcoming Auctions
BEGIN:VEVENT
UID:101559
DTSTAMP:20230524T131500
DTSTART:20230524T131500
DTEND:20230613T120000
SUMMARY:4912 Talmadge Road\, Toledo\, Ohio 43623
LOCATION:4912 Talmadge Road\, Toledo\, OH 43623\, US
DESCRIPTION:REAL ESTATE - West Toledo Brick Ranch with 3 Beds - Online T
 rust Auction
URL:https://pamelaroseauction.bwwsstaging.com/auctions/detail/bw
 101559
SEQUENCE:1
END:VEVENT
END:VCALENDAR