BEGIN:VCALENDAR
VERSION:2.0
PRODID:-//ExpressionEngine Easy iCalendar plugin//NONSGML v2.0.0//EN
X-WR-TIMEZONE:America/New_York
X-WR-CALNAME:Upcoming Auctions
BEGIN:VEVENT
UID:100327
DTSTAMP:20230503T130000
DTSTART:20230503T130000
DTEND:20230530T100000
SUMMARY:(Maumee OH) Tractors\, Vehicles\, Tools
LOCATION:6449 Garden Rd.\, Maumee\, OH 43537\, US
DESCRIPTION:Tractors\, Vehicles\, Tools\, Household\, Furniture - Online Auc
 tion
URL:https://pamelaroseauction.bwwsstaging.com/auctions/detail/bw
 100327
SEQUENCE:1
END:VEVENT
END:VCALENDAR